View In:
ArcMap
ArcGIS Explorer
ArcGIS JavaScript
Google Earth
Virtual Earth
(terms of use)
View Footprint In:
Google Earth
Service Description: This map service contains GIS data in Web Mercator projection from the EPA Office of Water for HUC2, HUC4, HUC6, HUC8, HUC10 and HUC12 polygons for the USDA Watershed Boundary Dataset. It is available as a WMS, KML, and REST service as well as the native MapServer service.
Map Name: Layers
Layers:
Description:
Copyright Text:
Spatial Reference: 102113
Single Fused Map Cache: true
Tile Info:
- Height: 256
- Width: 256
- DPI: 96
- Levels of Detail: (# Levels: 20)
-
Level ID: 0
[Start Tile,
End Tile]
Resolution: 156543.033928
Scale: 591657527.591555
-
Level ID: 1
[Start Tile,
End Tile]
Resolution: 78271.5169639999
Scale: 295828763.795777
-
Level ID: 2
[Start Tile,
End Tile]
Resolution: 39135.7584820001
Scale: 147914381.897889
-
Level ID: 3
[Start Tile,
End Tile]
Resolution: 19567.8792409999
Scale: 73957190.948944
-
Level ID: 4
[Start Tile,
End Tile]
Resolution: 9783.93962049996
Scale: 36978595.474472
-
Level ID: 5
[Start Tile,
End Tile]
Resolution: 4891.96981024998
Scale: 18489297.737236
-
Level ID: 6
[Start Tile,
End Tile]
Resolution: 2445.98490512499
Scale: 9244648.868618
-
Level ID: 7
[Start Tile,
End Tile]
Resolution: 1222.99245256249
Scale: 4622324.434309
-
Level ID: 8
[Start Tile,
End Tile]
Resolution: 611.49622628138
Scale: 2311162.217155
-
Level ID: 9
[Start Tile,
End Tile]
Resolution: 305.748113140558
Scale: 1155581.108577
-
Level ID: 10
[Start Tile,
End Tile]
Resolution: 152.874056570411
Scale: 577790.554289
-
Level ID: 11
[Start Tile,
End Tile]
Resolution: 76.4370282850732
Scale: 288895.277144
-
Level ID: 12
[Start Tile,
End Tile]
Resolution: 38.2185141425366
Scale: 144447.638572
-
Level ID: 13
[Start Tile,
End Tile]
Resolution: 19.1092570712683
Scale: 72223.819286
-
Level ID: 14
[Start Tile,
End Tile]
Resolution: 9.55462853563415
Scale: 36111.909643
-
Level ID: 15
[Start Tile,
End Tile]
Resolution: 4.77731426794937
Scale: 18055.954822
-
Level ID: 16
[Start Tile,
End Tile]
Resolution: 2.38865713397468
Scale: 9027.977411
-
Level ID: 17
[Start Tile,
End Tile]
Resolution: 1.19432856685505
Scale: 4513.988705
-
Level ID: 18
[Start Tile,
End Tile]
Resolution: 0.597164283559817
Scale: 2256.994353
-
Level ID: 19
[Start Tile,
End Tile]
Resolution: 0.298582141647617
Scale: 1128.497176
- Format: PNG8
- Compression Quality: 0
-
Origin:
X: -20037508.342787
Y: 20037508.342787
- Spatial Reference: 102113
Intial Extent:
XMin: -26760393.0562405
YMin: -9803491.4487133
XMax: 2826241.49671864
YMax: 17396460.4838402
Spatial Reference: 102113
Full Extent:
XMin: -18371181.746615
YMin: 1782347.09398
XMax: -6654801.461885
YMax: 6557400.90982
Spatial Reference: 102113
Units: esriMeters
Supported Image Format Types: PNG32,PNG24,PNG,JPG,DIB,TIFF,EMF,PS,PDF,GIF,SVG,SVGZ
Document Info:
- Title: WBD_WMERC
- Author: Indus Corporation
- Comments:
- Subject: WBD HUCS
- Category:
- Keywords:
- AntialiasingMode: None
- TextAntialiasingMode: Force
Supported Interfaces:
REST
SOAP
WMS
Supported Operations:
Export Map
Identify
Find
Generate KML